BEGIN:VCALENDAR
VERSION:2.0
PRODID:gruene-herten.de
METHOD:PUBLISH
BEGIN:VTIMEZONE
TZID:Europe/Berlin
X-LIC-LOCATION:Europe/Berlin
BEGIN:DAYLIGHT
TZOFFSETFROM:+0100
TZOFFSETTO:+0200
TZNAME:CEST
DTSTART:19700329T020000
RRULE:FREQ=YEARLY;INTERVAL=1;BYDAY=-1SU;BYMONTH=3
END:DAYLIGHT
BEGIN:STANDARD
TZOFFSETFROM:+0200
TZOFFSETTO:+0100
TZNAME:CET
DTSTART:19701025T030000
RRULE:FREQ=YEARLY;INTERVAL=1;BYDAY=-1SU;BYMONTH=10
END:STANDARD
END:VTIMEZONE
BEGIN:VEVENT
UID:35e84fd2f5ff0788973ab0185caa12d5@gruene-herten.de
URL;VALUE=URI:http://gruene-herten.de/termine/pflanzentauschboerse/
LOCATION:Egerstr. 8, Herten
SUMMARY:Pflanzentauschbörse
DESCRIPTION;ALTREP="data:text/html,%0A%3Cp%3EBring%20deine%20Pflanzen%20o
 der%20Ableger%20mit%20%E2%80%93%20und%20nimm%20neue%20mit%20nach%20Hause%
 20%F0%9F%8C%BF%3C%2Fp%3E%0A%0A%0A%0A%3Cp%3E%F0%9F%93%85%209.%20Mai%20%7C%
 2015%3A00%E2%80%9317%3A00%20Uhr%3C%2Fp%3E%0A%0A%0A%0A%3Cp%3Eam%20Bertlich
 er%20Dorfanger%3Cbr%3EEgerstr.%208%3C%2Fp%3E%0A%0A%0A%0A%3Cp%3E%E2%98%95%
 20Kaffee%20%26amp%3B%20Kuchen%3Cbr%3E%F0%9F%8E%A8%20Bastelaktion%3Cbr%3E%
 F0%9F%92%AC%20Plauderkissen%3C%2Fp%3E%0A%0A%0A%0A%3Cp%3E%E2%84%B9%EF%B8%8
 F%20Infos%3A%20Regina%20Weyer%3Cbr%3E%F0%9F%93%9E%20015772879906%3C%2Fp%3
 E%0A%0A%0A%0A%3Cp%3EWir%20freuen%20uns%20auf%20dich%20und%20einen%20sch%C
 3%B6nen%20Nachmittag%20mit%20der%20Nachbarschaft%21%20%F0%9F%92%9A%3C%2Fp
 %3E%0A":Bring deine Pflanzen oder Ableger mit – und nimm neue mit nach 
 Hause 🌿\n\n📅 9. Mai | 15:00–17:00 Uhr\n\nam Bertlicher DorfangerE
 gerstr. 8\n\n☕ Kaffee & Kuchen🎨 Bastelaktion💬 Plauderkissen\n\n
 ℹ️ Infos: Regina Weyer📞 015772879906\n\nWir freuen uns auf dich un
 d einen schönen Nachmittag mit der Nachbarschaft! 💚
CLASS:PUBLIC
DTSTART;TZID=Europe/Berlin:20260509T150000
DTEND;TZID=Europe/Berlin:20260509T170000
DTSTAMP:20260424T103123
END:VEVENT
END:VCALENDAR