BEGIN:VCALENDAR
VERSION:2.0
PRODID:gruene-herten.de
METHOD:PUBLISH
BEGIN:VTIMEZONE
TZID:Europe/Berlin
X-LIC-LOCATION:Europe/Berlin
BEGIN:DAYLIGHT
TZOFFSETFROM:+0100
TZOFFSETTO:+0200
TZNAME:CEST
DTSTART:19700329T020000
RRULE:FREQ=YEARLY;INTERVAL=1;BYDAY=-1SU;BYMONTH=3
END:DAYLIGHT
BEGIN:STANDARD
TZOFFSETFROM:+0200
TZOFFSETTO:+0100
TZNAME:CET
DTSTART:19701025T030000
RRULE:FREQ=YEARLY;INTERVAL=1;BYDAY=-1SU;BYMONTH=10
END:STANDARD
END:VTIMEZONE
BEGIN:VEVENT
UID:02ea5bb11bc4752d0889646ad195bf73@gruene-herten.de
URL;VALUE=URI:http://gruene-herten.de/termine/offenes-treffen-7/
LOCATION:grünen herten, Ewaldstraße 14, 45699 Herten, Deutschland
SUMMARY:Offenes Treffen
DESCRIPTION;ALTREP="data:text/html,%3Cp%3EJeden%20ersten%20Montag%20im%20
 Monat%20trifft%20sich%20der%20Ortsverband%20Herten%20mit%20interessierten
 %20Menschen.%20Wir%20tauschen%20uns%20dabei%20%C3%BCber%20aktuelle%20Them
 en%20aus%20und%20nehmen%20Anregungen%20auf.%3C%2Fp%3E":Jeden ersten Monta
 g im Monat trifft sich der Ortsverband Herten mit interessierten Menschen
 . Wir tauschen uns dabei über aktuelle Themen aus und nehmen Anregungen 
 auf.
CLASS:PUBLIC
DTSTART;TZID=Europe/Berlin:20261005T190000
DTEND;TZID=Europe/Berlin:20261005T203000
DTSTAMP:20260424T104037
END:VEVENT
END:VCALENDAR