BEGIN:VCALENDAR
VERSION:2.0
PRODID:gruene-herten.de
METHOD:PUBLISH
BEGIN:VTIMEZONE
TZID:Europe/Berlin
X-LIC-LOCATION:Europe/Berlin
BEGIN:DAYLIGHT
TZOFFSETFROM:+0100
TZOFFSETTO:+0200
TZNAME:CEST
DTSTART:19700329T020000
RRULE:FREQ=YEARLY;INTERVAL=1;BYDAY=-1SU;BYMONTH=3
END:DAYLIGHT
BEGIN:STANDARD
TZOFFSETFROM:+0200
TZOFFSETTO:+0100
TZNAME:CET
DTSTART:19701025T030000
RRULE:FREQ=YEARLY;INTERVAL=1;BYDAY=-1SU;BYMONTH=10
END:STANDARD
END:VTIMEZONE
BEGIN:VEVENT
UID:ecaf147869cbf82477e272e0f8a6a6d6@gruene-herten.de
URL;VALUE=URI:http://gruene-herten.de/termine/3-sitzung-ausschuss-fuer-ch
 ancengerechtigkeit-und-integration/
LOCATION:Großer Sitzungssaal
SUMMARY:3. Sitzung Ausschuss für Chancengerechtigkeit und Integration
DESCRIPTION;ALTREP="data:text/html,%3Cp%3EZum%20Termin%3A%3Cbr%20%2F%3E%0
 Ahttps%3A%2F%2Fherten.gremien.info%2Fmeeting%3Fid%3D2026-ACI-2%3C%2Fp%3E"
 :Zum Termin:\n\nhttps://herten.gremien.info/meeting?id=2026-ACI-2
CLASS:PUBLIC
DTSTART;TZID=Europe/Berlin:20260909T170000
DTEND;TZID=Europe/Berlin:20260909T173000
DTSTAMP:20260424T103124
END:VEVENT
END:VCALENDAR